BEGIN:VCALENDAR
VERSION:2.0
PRODID:-//Jenna Turnipseed for Congress | Georgia&#039;s 14th District - ECPv6.15.20//NONSGML v1.0//EN
CALSCALE:GREGORIAN
METHOD:PUBLISH
X-ORIGINAL-URL:https://turnipseedforcongress.com
X-WR-CALDESC:Events for Jenna Turnipseed for Congress | Georgia&#039;s 14th District
REFRESH-INTERVAL;VALUE=DURATION:PT1H
X-Robots-Tag:noindex
X-PUBLISHED-TTL:PT1H
BEGIN:VTIMEZONE
TZID:America/New_York
BEGIN:DAYLIGHT
TZOFFSETFROM:-0500
TZOFFSETTO:-0400
TZNAME:EDT
DTSTART:20250309T070000
END:DAYLIGHT
BEGIN:STANDARD
TZOFFSETFROM:-0400
TZOFFSETTO:-0500
TZNAME:EST
DTSTART:20251102T060000
END:STANDARD
BEGIN:DAYLIGHT
TZOFFSETFROM:-0500
TZOFFSETTO:-0400
TZNAME:EDT
DTSTART:20260308T070000
END:DAYLIGHT
BEGIN:STANDARD
TZOFFSETFROM:-0400
TZOFFSETTO:-0500
TZNAME:EST
DTSTART:20261101T060000
END:STANDARD
BEGIN:DAYLIGHT
TZOFFSETFROM:-0500
TZOFFSETTO:-0400
TZNAME:EDT
DTSTART:20270314T070000
END:DAYLIGHT
BEGIN:STANDARD
TZOFFSETFROM:-0400
TZOFFSETTO:-0500
TZNAME:EST
DTSTART:20271107T060000
END:STANDARD
END:VTIMEZONE
BEGIN:VEVENT
DTSTART;TZID=America/New_York:20260226T170000
DTEND;TZID=America/New_York:20260226T193000
DTSTAMP:20260425T183057
CREATED:20260206T212245Z
LAST-MODIFIED:20260207T000734Z
UID:206-1772125200-1772134200@turnipseedforcongress.com
SUMMARY:Floyd County GOP Candidate Round Table
DESCRIPTION:
URL:https://turnipseedforcongress.com/event/floyd-county-gop-candidate-round-table/
LOCATION:Palladium\, 1400 Martin Luther King Jr. Blvd\, Rome\, GA\, 30161
END:VEVENT
BEGIN:VEVENT
DTSTART;TZID=America/New_York:20260219T190000
DTEND;TZID=America/New_York:20260219T210000
DTSTAMP:20260425T183057
CREATED:20260131T205506Z
LAST-MODIFIED:20260131T213346Z
UID:180-1771527600-1771534800@turnipseedforcongress.com
SUMMARY:Paulding County- Candidate Eat-n-Greet
DESCRIPTION:
URL:https://turnipseedforcongress.com/event/paulding-county-candidate-eat-n-greet/
LOCATION:The Dallas Markets\, 398 W Memorial Dr\, Dallas\, GA\, 30132
END:VEVENT
BEGIN:VEVENT
DTSTART;TZID=America/New_York:20260218T183000
DTEND;TZID=America/New_York:20260218T200000
DTSTAMP:20260425T183057
CREATED:20260131T204059Z
LAST-MODIFIED:20260206T211709Z
UID:176-1771439400-1771444800@turnipseedforcongress.com
SUMMARY:Chattooga County Meet & Greet
DESCRIPTION:
URL:https://turnipseedforcongress.com/event/chattooga-county-town-hall/
LOCATION:Jeffersons\, 10096 Commerce St\, Summerville\, GA\, 30747
END:VEVENT
BEGIN:VEVENT
DTSTART;TZID=America/New_York:20260218T113000
DTEND;TZID=America/New_York:20260218T130000
DTSTAMP:20260425T183057
CREATED:20260131T202957Z
LAST-MODIFIED:20260131T202957Z
UID:175-1771414200-1771419600@turnipseedforcongress.com
SUMMARY:Paulding County Republican Women Luncheon
DESCRIPTION:
URL:https://turnipseedforcongress.com/event/paulding-county-republican-women-luncheon-3/
LOCATION:Cotton Gin\, 1817 Hiram Douglasville Hwy\, Hiram\, GA\, 30141
ORGANIZER;CN="Paulding County Republican Women":MAILTO:pauldingcountyrepublicanwomen@gmail.com
END:VEVENT
BEGIN:VEVENT
DTSTART;TZID=America/New_York:20260217T190000
DTEND;TZID=America/New_York:20260217T210000
DTSTAMP:20260425T183057
CREATED:20260122T015051Z
LAST-MODIFIED:20260207T002133Z
UID:148-1771354800-1771362000@turnipseedforcongress.com
SUMMARY:West Cobb County Candidate Forum
DESCRIPTION:
URL:https://turnipseedforcongress.com/event/west-cobb-county-candidate-forum/
LOCATION:Brookstone 1 Community Center\, 5595 Hedge Brooke Drive\, Acworth\, GA\, 30101
END:VEVENT
BEGIN:VEVENT
DTSTART;TZID=America/New_York:20260216T173000
DTEND;TZID=America/New_York:20260216T190000
DTSTAMP:20260425T183057
CREATED:20260131T204341Z
LAST-MODIFIED:20260131T213458Z
UID:178-1771263000-1771268400@turnipseedforcongress.com
SUMMARY:Dade County GOP Meeting
DESCRIPTION:
URL:https://turnipseedforcongress.com/event/dade-county-gop-meeting/
LOCATION:Dade Commission meeting room\, 71 Case Ave\, Trenton\, GA\, 30752\, United States
END:VEVENT
BEGIN:VEVENT
DTSTART;TZID=America/New_York:20260215T170000
DTEND;TZID=America/New_York:20260215T180000
DTSTAMP:20260425T183057
CREATED:20260123T011625Z
LAST-MODIFIED:20260123T011625Z
UID:153-1771174800-1771178400@turnipseedforcongress.com
SUMMARY:Atlanta Press Club Loudermilk-Young Debate Series
DESCRIPTION:
URL:https://turnipseedforcongress.com/event/atlanta-press-club-loudermilk-young-debate-series/
LOCATION:Georgia Public Broadcasting\, 260 14th Street\, NW\, Atlanta\, GA
END:VEVENT
BEGIN:VEVENT
DTSTART;TZID=America/New_York:20260214T160000
DTEND;TZID=America/New_York:20260214T190000
DTSTAMP:20260425T183057
CREATED:20260207T001217Z
LAST-MODIFIED:20260207T001241Z
UID:208-1771084800-1771095600@turnipseedforcongress.com
SUMMARY:A Date with Democracy; League of Women Voters 14th District Candidate Forum
DESCRIPTION:
URL:https://turnipseedforcongress.com/event/a-date-with-democracy-league-of-women-voters-14th-district-candidate-forum/
LOCATION:American Legion Post 112\, 1118 N. Glenwood Avenue\, Dalton\, GA\, 30721
END:VEVENT
BEGIN:VEVENT
DTSTART;TZID=America/New_York:20260213T183000
DTEND;TZID=America/New_York:20260213T200000
DTSTAMP:20260425T183057
CREATED:20260206T212021Z
LAST-MODIFIED:20260206T212021Z
UID:204-1771007400-1771012800@turnipseedforcongress.com
SUMMARY:Walker County Town Hall
DESCRIPTION:
URL:https://turnipseedforcongress.com/event/walker-county-town-hall/
LOCATION:Walker County Ag Center\, US-27\, Rock Spring\, GA\, GA\, 30739\, United States
END:VEVENT
BEGIN:VEVENT
DTSTART;TZID=America/New_York:20260212T190000
DTEND;TZID=America/New_York:20260212T210000
DTSTAMP:20260425T183057
CREATED:20260123T012138Z
LAST-MODIFIED:20260123T012138Z
UID:156-1770922800-1770930000@turnipseedforcongress.com
SUMMARY:14th District Election Debate
DESCRIPTION:
URL:https://turnipseedforcongress.com/event/14th-district-election-debate/
LOCATION:Carpets of Dalton Event Center\, 2942 N. Dug Gap rd.\, Dalton\, GA
END:VEVENT
BEGIN:VEVENT
DTSTART;TZID=America/New_York:20260210T180000
DTEND;TZID=America/New_York:20260210T193000
DTSTAMP:20260425T183057
CREATED:20260131T210407Z
LAST-MODIFIED:20260131T210917Z
UID:183-1770746400-1770751800@turnipseedforcongress.com
SUMMARY:GA-14 Congressional Special Election Forum
DESCRIPTION:
URL:https://turnipseedforcongress.com/event/ga-14-congressional-special-election-forum/
LOCATION:Rome City Auditorium\, 601 Broad St\, Rome\, GA\, 30161
END:VEVENT
BEGIN:VEVENT
DTSTART;TZID=America/New_York:20260209T183000
DTEND;TZID=America/New_York:20260209T200000
DTSTAMP:20260425T183057
CREATED:20260123T231806Z
LAST-MODIFIED:20260123T231806Z
UID:160-1770661800-1770667200@turnipseedforcongress.com
SUMMARY:Murray County Town Hall
DESCRIPTION:
URL:https://turnipseedforcongress.com/event/murray-county-town-hall/
LOCATION:Pizza King\, 500 S. 3rd Ave\, Chatsworth\, GA\, 30705
END:VEVENT
BEGIN:VEVENT
DTSTART;TZID=America/New_York:20260205T110000
DTEND;TZID=America/New_York:20260205T130000
DTSTAMP:20260425T183057
CREATED:20260123T234155Z
LAST-MODIFIED:20260123T234155Z
UID:165-1770289200-1770296400@turnipseedforcongress.com
SUMMARY:Floyd County Republican Women Lunch
DESCRIPTION:
URL:https://turnipseedforcongress.com/event/floyd-county-republican-women-lunch/
LOCATION:Palladium\, 1400 Martin Luther King Jr. Blvd\, Rome\, GA\, 30161
END:VEVENT
BEGIN:VEVENT
DTSTART;TZID=America/New_York:20260131T150000
DTEND;TZID=America/New_York:20260131T180000
DTSTAMP:20260425T183057
CREATED:20260123T233000Z
LAST-MODIFIED:20260123T234738Z
UID:162-1769871600-1769882400@turnipseedforcongress.com
SUMMARY:14th Congressional District GOP Candidate Forum
DESCRIPTION:
URL:https://turnipseedforcongress.com/event/14th-congressional-district-gop-candidate-forum/
LOCATION:Lindale Mill\, 6 Park Ave\, Lindale\, GA\, 30147
END:VEVENT
BEGIN:VEVENT
DTSTART;TZID=America/New_York:20260131T110000
DTEND;TZID=America/New_York:20260131T130000
DTSTAMP:20260425T183057
CREATED:20260123T234556Z
LAST-MODIFIED:20260123T234556Z
UID:168-1769857200-1769864400@turnipseedforcongress.com
SUMMARY:Polk County Republican Party — Candidate Forum
DESCRIPTION:
URL:https://turnipseedforcongress.com/event/polk-county-republican-party-candidate-forum/
LOCATION:First Baptist Church of Rockmart\, 311 E. Elm Street\, Rockmart\, GA\, 30153
END:VEVENT
BEGIN:VEVENT
DTSTART;TZID=America/New_York:20260126T173000
DTEND;TZID=America/New_York:20260126T183000
DTSTAMP:20260425T183057
CREATED:20260115T005243Z
LAST-MODIFIED:20260115T012047Z
UID:117-1769448600-1769452200@turnipseedforcongress.com
SUMMARY:Dade County Georgia Republican GOP Meeting
DESCRIPTION:
URL:https://turnipseedforcongress.com/event/dade-county-georgia-republican-gop-meeting/
LOCATION:Dade Co Commission meeting room\, 71 Case Ave\, Trenton\, GA
END:VEVENT
BEGIN:VEVENT
DTSTART;TZID=America/New_York:20260124T150000
DTEND;TZID=America/New_York:20260124T180000
DTSTAMP:20260425T183057
CREATED:20260115T004449Z
LAST-MODIFIED:20260115T004449Z
UID:111-1769266800-1769277600@turnipseedforcongress.com
SUMMARY:League of Women Voters Georgia’s 14th Congressional District Candidate Forum
DESCRIPTION:
URL:https://turnipseedforcongress.com/event/league-of-women-voters-georgias-14th-congressional-district-candidate-forum/
LOCATION:The Historic Sweet Home Missionary Baptist Church\, 280 Oak St\, Hiram\, GA\, 30141
END:VEVENT
BEGIN:VEVENT
DTSTART;TZID=America/New_York:20260121T113000
DTEND;TZID=America/New_York:20260121T130000
DTSTAMP:20260425T183057
CREATED:20260115T012626Z
LAST-MODIFIED:20260115T012626Z
UID:122-1768995000-1769000400@turnipseedforcongress.com
SUMMARY:Paulding County Republican Women Luncheon
DESCRIPTION:
URL:https://turnipseedforcongress.com/event/paulding-county-republican-women-luncheon-2/
LOCATION:Cotton Gin\, 1817 Hiram Douglasville Hwy\, Hiram\, GA\, 30141
ORGANIZER;CN="Paulding County Republican Women":MAILTO:pauldingcountyrepublicanwomen@gmail.com
END:VEVENT
BEGIN:VEVENT
DTSTART;TZID=America/New_York:20260117T110000
DTEND;TZID=America/New_York:20260117T150000
DTSTAMP:20260425T183057
CREATED:20260102T181959Z
LAST-MODIFIED:20260102T181959Z
UID:88-1768647600-1768662000@turnipseedforcongress.com
SUMMARY:14th Congressional District GRA Regional Candidate Forum & Endorsement Convention
DESCRIPTION:
URL:https://turnipseedforcongress.com/event/14th-congressional-district-gra-regional-candidate-forum-endorsement-convention/
LOCATION:305 Broad Street  Rome GA 30161\, 305 Broad Street\, Rome\, Georgia\, 30161\, United States
END:VEVENT
BEGIN:VEVENT
DTSTART;TZID=America/New_York:20260110T083000
DTEND;TZID=America/New_York:20260110T110000
DTSTAMP:20260425T183057
CREATED:20260102T142659Z
LAST-MODIFIED:20260102T142659Z
UID:82-1768033800-1768042800@turnipseedforcongress.com
SUMMARY:Cobb County Republican Party January Breakfast
DESCRIPTION:
URL:https://turnipseedforcongress.com/event/cobb-county-republican-party-january-breakfast/
LOCATION:VFW Post 2681\, 140 Powers Ferry Road\, Marietta\, GA\, 30067\, United States
CATEGORIES:GOP Meetings
END:VEVENT
END:VCALENDAR